BEGIN:VCALENDAR
VERSION:2.0
PRODID:-//Nova Scotia Advocate - ECPv6.9.0//NONSGML v1.0//EN
CALSCALE:GREGORIAN
METHOD:PUBLISH
X-WR-CALNAME:Nova Scotia Advocate
X-ORIGINAL-URL:https://nsadvocate.org
X-WR-CALDESC:Events for Nova Scotia Advocate
REFRESH-INTERVAL;VALUE=DURATION:PT1H
X-Robots-Tag:noindex
X-PUBLISHED-TTL:PT1H
BEGIN:VTIMEZONE
TZID:America/Glace_Bay
BEGIN:DAYLIGHT
TZOFFSETFROM:-0400
TZOFFSETTO:-0300
TZNAME:ADT
DTSTART:20210314T060000
END:DAYLIGHT
BEGIN:STANDARD
TZOFFSETFROM:-0300
TZOFFSETTO:-0400
TZNAME:AST
DTSTART:20211107T050000
END:STANDARD
END:VTIMEZONE
BEGIN:VEVENT
DTSTART;TZID=America/Glace_Bay:20210917T190000
DTEND;TZID=America/Glace_Bay:20210917T210000
DTSTAMP:20260421T203100
CREATED:20210913T122909Z
LAST-MODIFIED:20210913T122910Z
UID:22524-1631905200-1631912400@nsadvocate.org
SUMMARY:How We Won\, a tribute concert
DESCRIPTION:Remember How We Won \n\n\n\nSeptember 9\, 2021 \n\n\n\nFinally\, on September 17\, we’re thrilled to present How We Won. \n\n\n\nJoin us at The Derby Showbar to hear an incredible story of collective action through the weaving of witness telling\, music\, and spoken word poetry in tribute to community power. On March 27th\, 1996\, a collection of activists from the community as well as local union members\, joined together in a 133 day protest by occupying the offices of the Canada Employment Centre located at 2089 Gottingen Street in North end Halifax. This remarkable act of worker and community resistance still holds the record as Canada’s longest occupation of a Federal Government office in the history of Canada. \n\n\n\n\n\n\n\nCredit: Lynn Jones African Canadian and Diaspora Heritage Collection \n\n\n\nDr. Lynn Jones & Carolann Wright sharing firsthand accounts of memories of their involvement in the landmark occupation. The evening will also feature stellar performances by Corey Adams\, Keonte Beals\, Linda Carvery\, El Jones\, and MAJE. This anniversary is a free event and takes place just down the road from where the occupation took place 25 years ago. \n\n\n\nRegister for a free table through a Google form available on our website or through our social media. \n\n\n\nHow We Won is brought to you by the Public Service Alliance of Canada and the Nova Scotia Advisory Council on the Status of Women. \n\n\n\n————————— \n\n\n\nMayworks Kjipuktuk/Halifax is presented by Nova Scotia’s labour movement\, including the Halifax-Dartmouth & District Labour Council and the Nova Scotia Federation of Labour. A full list & schedule of events is available on our website\, www.MayworksKjipuktukHFX.ca\, or through our app\, available for iOS and Android.
URL:https://nsadvocate.org/event/how-we-won-a-tribute-concert/
END:VEVENT
END:VCALENDAR