BEGIN:VCALENDAR
VERSION:2.0
PRODID:-//Nova Scotia Advocate - ECPv6.9.0//NONSGML v1.0//EN
CALSCALE:GREGORIAN
METHOD:PUBLISH
X-WR-CALNAME:Nova Scotia Advocate
X-ORIGINAL-URL:https://nsadvocate.org
X-WR-CALDESC:Events for Nova Scotia Advocate
REFRESH-INTERVAL;VALUE=DURATION:PT1H
X-Robots-Tag:noindex
X-PUBLISHED-TTL:PT1H
BEGIN:VTIMEZONE
TZID:America/Glace_Bay
BEGIN:DAYLIGHT
TZOFFSETFROM:-0400
TZOFFSETTO:-0300
TZNAME:ADT
DTSTART:20210314T060000
END:DAYLIGHT
BEGIN:STANDARD
TZOFFSETFROM:-0300
TZOFFSETTO:-0400
TZNAME:AST
DTSTART:20211107T050000
END:STANDARD
END:VTIMEZONE
BEGIN:VEVENT
DTSTART;TZID=America/Glace_Bay:20210928T120000
DTEND;TZID=America/Glace_Bay:20210928T130000
DTSTAMP:20260421T222334
CREATED:20210926T203856Z
LAST-MODIFIED:20210926T203857Z
UID:22675-1632830400-1632834000@nsadvocate.org
SUMMARY:Wellness Within marks International Safe Abortion Day Sept 28
DESCRIPTION:Wellness Within is a registered non-profit organization working for reproductive justice\, prison abolition\, and health equity in K’jipuktuk\, Mi’kma’ki (Halifax\, Nova Scotia). September 28 is recognized around the world as a day to work towards safer access to abortion everywhere\, for everyone. \n\n\n\nAbortion is completely decriminalized in Canada. There are no legal limitations on gestational age\, no requirements for parental consent\, or other laws interfering with patient experience. Medication abortion is widely available through primary care providers. From a regulatory perspective\, Canada has the best access to abortion in the world. \n\n\n\nOne in three people with a uterus will have an abortion in their lifetime. Abortion is a common\, normal\, and clinically safe experience in Canada. But there is more to safety than the clinical intervention itself.  Stigma\, travel\, and personal costs impede patient safety. \n\n\n\nNon-citizens and people without provincial/territorial health cards lack access to publicly funded care. Abortion care providers are spread out across the country and may be difficult or expensive to reach. Although abortion is safe and very common\, it continues to be excluded from most health care professional educational programs. Lack of representation of Black\, Indigenous\, people of colour and 2SLGTBQIA+ people in abortion care provision results in culturally unsafe care. Even while abortion is publicly funded\, contraception is not. \n\n\n\nWe can make this better. Reproductive justice requires universal access to safe abortion and contraception care. \n\n\n\nJoin us for a noon webinar on Sept 28 to talk about how we get there. \n\n\n\nSpeakers: Dr. Lianne Yoshida\, Martha Paynter RN\, Danielle LeBlanc RN\, Clark MacIntosh\, and Claudia Chender. \n\n\n\nWhen: 12 noon Tuesday Sept 28 \n\n\n\nWhere: Zoom. Register by emailing womenswellnesswithinns@gmail.com\, and you will receive the link.
URL:https://nsadvocate.org/event/wellness-within-marks-international-safe-abortion-day-sept-28/
END:VEVENT
END:VCALENDAR