BEGIN:VCALENDAR
VERSION:2.0
PRODID:-//Nova Scotia Advocate - ECPv6.9.0//NONSGML v1.0//EN
CALSCALE:GREGORIAN
METHOD:PUBLISH
X-WR-CALNAME:Nova Scotia Advocate
X-ORIGINAL-URL:https://nsadvocate.org
X-WR-CALDESC:Events for Nova Scotia Advocate
REFRESH-INTERVAL;VALUE=DURATION:PT1H
X-Robots-Tag:noindex
X-PUBLISHED-TTL:PT1H
BEGIN:VTIMEZONE
TZID:America/Glace_Bay
BEGIN:DAYLIGHT
TZOFFSETFROM:-0400
TZOFFSETTO:-0300
TZNAME:ADT
DTSTART:20160313T060000
END:DAYLIGHT
BEGIN:STANDARD
TZOFFSETFROM:-0300
TZOFFSETTO:-0400
TZNAME:AST
DTSTART:20161106T050000
END:STANDARD
END:VTIMEZONE
BEGIN:VEVENT
DTSTART;TZID=America/Glace_Bay:20160709T150000
DTEND;TZID=America/Glace_Bay:20160709T170000
DTSTAMP:20260425T182728
CREATED:20160707T193736Z
LAST-MODIFIED:20160707T193736Z
UID:2290-1468076400-1468083600@nsadvocate.org
SUMMARY:No to NATO! No To War!
DESCRIPTION:No Harbour for War has organized a local peace rally.\nThe rally will take place:\n3pm – 5pm\n@ CFB Stadacona 2778 Gottingen St. on the corner of Gottingen and Almon Street. \nThis is a protest Against NATO’s War Planning Summit in Warsaw\, Poland.\nWe are urging the Canadian government not to commit troops to Latvia which will only escalate tensions and could lead to much worse.
URL:https://nsadvocate.org/event/no-to-nato-no-to-war/
LOCATION:CFB Stadacona\, 2778 Gottingen St.\, Halifax
END:VEVENT
BEGIN:VEVENT
DTSTART;TZID=America/Glace_Bay:20160709T123000
DTEND;TZID=America/Glace_Bay:20160709T140000
DTSTAMP:20260425T182728
CREATED:20160630T132514Z
LAST-MODIFIED:20160630T132514Z
UID:2246-1468067400-1468072800@nsadvocate.org
SUMMARY:ACORN Nova Scotia and North End Residents to  March on Condo Developer Demanding  Affordable Housing
DESCRIPTION:North End residents and members of the anti­poverty organization ACORN Nova Scotia are planning a demonstration against gentrification in North End Halifax. \nThe North End has been rapidly gentrified in recent years: affordable housing has been demolished and sold off\, rents have risen\, and an influx luxury condominiums and high­-end businesses hasve displaced many longtime residents. \n“It’s a takeover. It’s obvious\, and it’s outrageous” Said Darryl King\, the Co­Chair of the North­Central Halifax chapter of ACORN “You never see these developers building housing that the people here can afford. There’s less and less all the time. But they’re building these $300\,000 condos. They have no concern for the neighbourhood they work in\, or the people who are being pushed out.” \nACORN members and allies will march on a local developer to demand the conversion of unsold condominium units into affordable housing. “Our message is simple: if you want to come into our neighbourhood and build\, you’ve got to build something for the people who live here.” said Bonnie Barrett\, the Chair of Halifax ACORN “We won’t allow our community to be erased. We won’t disapear quietly into the night. We’re standing up andfighting back.” \nTime:12:30­-2 pm \nDate: July 9th \nLocation: Meet at North Branch Library­ 2285 Gottingen \nNova Scotia ACORN is an affiliate of ACORN Canada\, a national antipoverty organization with over 70\,000 low and moderate income members organized into 20 neighborhood chapters in 7 cities across Canada. We fight for tenants rights\, regulations on moneylenders\, and a living wage. \nFor more information contact: \nStorm Paradise \nPhone: (902) 225 3818 \nEmail: novascotia1@acorncanada.org
URL:https://nsadvocate.org/event/acorn-nova-scotia-and-north-end-residents-to-march-on-condo-developer-demanding-affordable-housing/
LOCATION:Halifax North Memorial Library\, 2285 Gottingen St\, Halifax
END:VEVENT
BEGIN:VEVENT
DTSTART;TZID=America/Glace_Bay:20160706T053000
DTEND;TZID=America/Glace_Bay:20160706T190000
DTSTAMP:20260425T182728
CREATED:20160623T162818Z
LAST-MODIFIED:20160623T162938Z
UID:2177-1467783000-1467831600@nsadvocate.org
SUMMARY:Monthly reading group: Truth and Reconciliation Commission report
DESCRIPTION:Ecology Action Centre joins reconciliation pledge and challenges public to do the same \nK’JIPUKTUK (HALIFAX) – June 21st\, 2016 \nNova Scotia’s largest environmental organization is challenging its staff\, board\, and membership to read the full summary report of the Truth and Reconciliation Commission (TRC) this year. \nThe Truth and Reconciliation Commission of Canada (TRC) was organized by the parties to the Indian Residential Schools Settlement Agreement.  The final report of this commission details the horrific history and legacy of Canadian residential schools\, which involved 150\,000 First Nations\, Inuit and Mètis children over more than a century. As the TRC notes in the 360-odd page summary report\, Canada needs to move from “apology to action” if reconciliation with Aboriginal Peoples is to succeed. The TRC includes 94 recommendations for change in policies\, programs and the “way we talk to\, and about\, each other.” \nEAC is inviting interested people to join them in exploring the report through a monthly reading group\, which will meet on the first Wednesday of each month at 5:30pm\, starting on July 6th. \n“Reading this report is a key step towards understanding what the TRC’s 94 Calls to Action mean for us\, both as an organization and in our own lives\,” explains co-organizer Sadie Beaton\, who also works as EAC’s Community Conservation Research Network Coordinator. \nAs reading group co-organizer Joanna Bull describes\, “We are committing to this in order to hear the report directly and sincerely\, to educate ourselves and increase our understanding of the impacts and legacy of residential schools in Canada.” \nEAC’s commitment and challenge is part of a national pledge being organized by http://trcreadingchallenge.com/. Over 3000 people have signed up across Canada to read this crucial document\, starting on June 21st\, National Aboriginal Day. “Reconciliation is going to take hard work. People of all walks of life and at all levels of society will need to be willingly engaged\,” notes the Commission in the closing of the report. \n  \nYou can find the PDF version of the Summary Report here: http://www.trc.ca/websites/trcinstitution/File/2015/Findings/Exec_Summary_2015_05_31_web_o.pdf. \nFor further information\, please contact: \n  \n  \nJoanna Bull \nVolunteer & Events Coordinator \n902-454-5226 \ncommunications@ecologyaction.ca \n  \nSadie Beaton \nCommunity Conservation Research Coordinator\n902-221-1953 \nSadie@ecologyaction.ca \n 
URL:https://nsadvocate.org/event/monthly-reading-group-ruth-and-reconciliation-commission-report/
LOCATION:Ecology Action Centre\, 2705 Fern Lane\, Halifax
END:VEVENT
BEGIN:VEVENT
DTSTART;TZID=America/Glace_Bay:20160705T141500
DTEND;TZID=America/Glace_Bay:20160705T150000
DTSTAMP:20260425T182728
CREATED:20160630T133350Z
LAST-MODIFIED:20160630T133350Z
UID:2247-1467728100-1467730800@nsadvocate.org
SUMMARY:MetCap Living Tenants Demand Landlord Licensing
DESCRIPTION:Halifax\, N.S. – Tenants renting in private housing managed by the MetCap Living Inc. have been living in slum conditions with bedbugs\, mice\, mold\, and more. \n“When I first moved in\, there were used needles stuck in the carpet\,” says Katarina Jordan-Baynell\, a MetCap tenant and member of the Dartmouth ACORN chapter. “With a young child\, these oversights and lack of repairs are very concerning.” Jordan-Baynell says that a request to repair her kitchen sink took months to fulfill\, and the repairperson was disrespectful when he finally did arrive. \n“MetCap can take one\, three\, or even six months to address issues within their buildings\,” says Jonethan Brigley\, a MetCap tenant and Chair of the Dartmouth ACORN chapter. “Meanwhile\, tenants are responsible for paying their rent on time every month or else they risk being evicted.” Brigley says with a proactive landlord licensing system\, landlords will be held accountable to maintain their buildings. \nOn Tuesday\, July 5th at 2pm tenants from Spryfield\, Dartmouth\, and Halifax will be coming together to protest the poor living conditions. They will be demonstrating out front of a MetCap Living management office on 32 Primrose Street in Dartmouth. \nWhat: Picket \nTime: 2:15pm \nDate: Tuesday\, July 5\, 2016 \nWhere: MetCap Living Inc. office –32 Primrose Street\, Halifax. \nWho: ACORN Nova Scotia \n### \nFor more information contact: \nSam Krawec – Organizer\, Nova Scotia ACORN \nhalifax@acorncanada.org \n(902) 221 5416 \nWhat is ACORN Nova Scotia? \nAssociation of Community Organizations for Reform Now (ACORN) Nova Scotia is the local office of ACORN Canada – a national independent organization of low and moderate income families. We have over 80\,000 members organized into twenty neighborhood chapters in nine cities across Canada. We believe that social and economic justice can best be achieved with a national active membership who are invested in their organization and focused on building power for change.
URL:https://nsadvocate.org/event/metcap-living-tenants-demand-landlord-licensing/
LOCATION:MetCap Living Inc. office\, 32 Primrose Street\, Halifax
END:VEVENT
BEGIN:VEVENT
DTSTART;TZID=America/Glace_Bay:20160704T183000
DTEND;TZID=America/Glace_Bay:20160704T213000
DTSTAMP:20260425T182728
CREATED:20160619T171535Z
LAST-MODIFIED:20160619T171535Z
UID:2145-1467657000-1467667800@nsadvocate.org
SUMMARY:All art is political: a workshop lecture with Sebastien Labelle & Prof. Shannon Brownlee
DESCRIPTION:“All art is political in the sense that it serves someone’s politics.” – August Wilson \nHow do we determine the ‘politics’ of art? Who is served and who is left out? The study of ideology allows us to answer these questions and critically examine the role of art in shaping\, bolstering or subverting social norms and conventions. Culture both weaves and reflects the understanding we have of the world around us\, and what we say or (more importantly) don’t say tells us a lot about how we believe our world is or should be. By looking at examples from popular culture we can determine what some of those norms and beliefs might be… and who they serve. \nNOTE: The bar will be open on this evening. \nFacilitators: \nSébastien Labelle is an actor\, trade unionist\, community organizer and the Executive Director of the Bus Stop Theatre Cooperative. He is also the Festival Director of the Mayworks Halifax Festival\, an annual arts festival celebrating workers and struggles for justice. Sébastien is a former apprentice of the Bread & Puppet Theatre in Vermont and is currently helping in the development of the River Clyde Pageant in PEI using traditional forms of street theatre. \nProf. Shannon Brownlee teaches film studies in the Fountain School of Performing Arts at Dalhousie University. Her research interests include film theory\, film adaptation\, experimental film\, animated film\, and feminist and queer cinemas and theories. \nREGISTRATION: \nRegistration is free to coop members\, and $5 for the general public. \nPlease register by filling out the form available HERE
URL:https://nsadvocate.org/event/all-art-is-political-a-workshop-lecture-with-sebastien-labelle-prof-shannon-brownlee/
LOCATION:Bus Stop Theatre\, 2203 Gottingen Street\, Halifax
END:VEVENT
BEGIN:VEVENT
DTSTART;TZID=America/Glace_Bay:20160703T133000
DTEND;TZID=America/Glace_Bay:20160703T150000
DTSTAMP:20260425T182728
CREATED:20160620T002631Z
LAST-MODIFIED:20160620T002902Z
UID:2148-1467552600-1467558000@nsadvocate.org
SUMMARY:Wolfville: Risks of Energy East Information Session and Discussion
DESCRIPTION:Energy East Information Tour:\nThe Ecology Action Centre (EAC) is hosting a series of information sessions in coastal Nova Scotian communities along the Bay of Fundy to discuss risks of the proposed Energy East pipeline to the Bay of Fundy. \nThe EAC’s information sessions\, (dates and locations listed below) are a chance to discuss details and risks of Energy East\, and hear feedback and concerns from coastal communities in Nova Scotia about the project. \nTransCanada’s Energy East pipeline and associated export terminal in Saint John\, New Brunswick pose risks to the entire Bay of Fundy due to associated marine terminal and increased tanker traffic in the Bay of Fundy\, through the Gulf of Maine. Tanker traffic would increase by nearly 330 million barrels\, or 290 tankers per year. This would impact coastal communities\, fisheries\, and much of Nova Scotia’s mainland coastline\, especially the Bay of Fundy. \nVisit www.savefundy.ca for more information on the risks of the Energy East pipeline\, and details regarding the upcoming tour. \nAll are welcome. No RSVP is needed. Send questions\, concerns or ideas regarding these events to Stephen Thomas at the Ecology Action Centre:\nstephen@ecologyaction.ca or 1-902-429-2202
URL:https://nsadvocate.org/event/wolfville-risks-of-energy-east-information-session-and-discussion/
LOCATION:Wolfville Farmers Market\, 24 Elm Ave\, Wolfville
END:VEVENT
BEGIN:VEVENT
DTSTART;TZID=America/Glace_Bay:20160702T200000
DTEND;TZID=America/Glace_Bay:20160702T220000
DTSTAMP:20260425T182728
CREATED:20160619T171057Z
LAST-MODIFIED:20160619T171057Z
UID:2144-1467489600-1467496800@nsadvocate.org
SUMMARY:BIPOCalypse Performance Night
DESCRIPTION:Two nights showcasing the stories of local Black\, Indigenous\, and\nPeople of Colour (BIPOC) who are queer\, trans or two-spirit. \nOver the past few months\, BIPOCalypse Halifax has hosted a series of\nworkshops to encourage and promote the work of performers who identify\nas queer\, trans or 2 spirit and Black\, Indigenous or People of Colour\n(BIPOC). We wanted to offer BIPOC people the chance to build our\nskills\, tell our stories\, grow ourselves as artists\, and explore the\nmagic of having a BIPOC-centered space for learning and performance. \nWhat: We bring the BIPOCalypse: 2 Performance Nights\nWhen: Friday July 1 (BIPOC-only audience) & Saturday July 2 (General Audience)\nWhere: The Bus Stop Theatre (2203 Gottingen Street)\nPrice: Pay what you can\, no one turned away for lack of funds \nAccessibility Notes:\n-The Bus Stop Theatre is a physically accessible space with a ramp at\nthe front door and gender neutral washrooms\n-Sign language interpretation for both nights\n-Dedicated seating for folks with mobility devices and wheelchairs\n-We strive to have this event scent safe\, please refrain from using\nscented products. http://www.femmecollective.com/?page_id=923\n-Get in touch with any additonal access needs at bipocalypse@gmail.com \nBIPOCalypse is grateful for support from S.P.O.C: Supporting\nPerformers/persons Of Color\, Nova Scotia Public Interest Research\nGroup (NSPIRG)\, South House and The Bus Stop Theatre
URL:https://nsadvocate.org/event/bipocalypse-performance-night/
LOCATION:Bus Stop Theatre\, 2203 Gottingen Street\, Halifax
END:VEVENT
BEGIN:VEVENT
DTSTART;TZID=America/Glace_Bay:20160702T133000
DTEND;TZID=America/Glace_Bay:20160702T150000
DTSTAMP:20260425T182728
CREATED:20160620T002355Z
LAST-MODIFIED:20160620T002355Z
UID:2146-1467466200-1467471600@nsadvocate.org
SUMMARY:Risks of Energy East Information Session and Discussion
DESCRIPTION:Energy East Information Tour:\nThe Ecology Action Centre (EAC) is hosting a series of information sessions in coastal Nova Scotian communities along the Bay of Fundy to discuss risks of the proposed Energy East pipeline to the Bay of Fundy. \nThe EAC’s information sessions\, (dates and locations listed below) are a chance to discuss details and risks of Energy East\, and hear feedback and concerns from coastal communities in Nova Scotia about the project. \nTransCanada’s Energy East pipeline and associated export terminal in Saint John\, New Brunswick pose risks to the entire Bay of Fundy due to associated marine terminal and increased tanker traffic in the Bay of Fundy\, through the Gulf of Maine. Tanker traffic would increase by nearly 330 million barrels\, or 290 tankers per year. This would impact coastal communities\, fisheries\, and much of Nova Scotia’s mainland coastline\, especially the Bay of Fundy. \nVisit www.savefundy.ca for more information on the risks of the Energy East pipeline\, and details regarding the upcoming tour. \nAll are welcome. No RSVP is needed. Send questions\, concerns or ideas regarding these events to Stephen Thomas at the Ecology Action Centre:\nstephen@ecologyaction.ca or 1-902-429-2202
URL:https://nsadvocate.org/event/risks-of-energy-east-information-session-and-discussion/
LOCATION:Halifax North Memorial Library\, 2285 Gottingen St\, Halifax
END:VEVENT
BEGIN:VEVENT
DTSTART;TZID=America/Glace_Bay:20160701T200000
DTEND;TZID=America/Glace_Bay:20160701T220000
DTSTAMP:20260425T182728
CREATED:20160619T170751Z
LAST-MODIFIED:20160619T170751Z
UID:2142-1467403200-1467410400@nsadvocate.org
SUMMARY:BIPOCalypse Performance Night (BIPOC-only audience)
DESCRIPTION:Two nights showcasing the stories of local Black\, Indigenous\, and\nPeople of Colour (BIPOC) who are queer\, trans or two-spirit. \nOver the past few months\, BIPOCalypse Halifax has hosted a series of\nworkshops to encourage and promote the work of performers who identify\nas queer\, trans or 2 spirit and Black\, Indigenous or People of Colour\n(BIPOC). We wanted to offer BIPOC people the chance to build our\nskills\, tell our stories\, grow ourselves as artists\, and explore the\nmagic of having a BIPOC-centered space for learning and performance. \nWhat: We bring the BIPOCalypse: 2 Performance Nights\nWhen: Friday July 1 (BIPOC-only audience) & Saturday July 2 (General Audience)\nWhere: The Bus Stop Theatre (2203 Gottingen Street)\nPrice: Pay what you can\, no one turned away for lack of funds \nAccessibility Notes:\n-The Bus Stop Theatre is a physically accessible space with a ramp at\nthe front door and gender neutral washrooms\n-Sign language interpretation for both nights\n-Dedicated seating for folks with mobility devices and wheelchairs\n-We strive to have this event scent safe\, please refrain from using\nscented products. http://www.femmecollective.com/?page_id=923\n-Get in touch with any additonal access needs at bipocalypse@gmail.com \nBIPOCalypse is grateful for support from S.P.O.C: Supporting\nPerformers/persons Of Color\, Nova Scotia Public Interest Research\nGroup (NSPIRG)\, South House and The Bus Stop Theatre
URL:https://nsadvocate.org/event/bipocalypse-performance-night-bipoc-only-audience/
LOCATION:Bus Stop Theatre\, 2203 Gottingen Street\, Halifax
END:VEVENT
BEGIN:VEVENT
DTSTART;TZID=America/Glace_Bay:20160629T190000
DTEND;TZID=America/Glace_Bay:20160629T210000
DTSTAMP:20260425T182728
CREATED:20160627T134303Z
LAST-MODIFIED:20160627T134303Z
UID:2189-1467226800-1467234000@nsadvocate.org
SUMMARY:Public meeting to save Blue Mountain Birch Cove Lakes
DESCRIPTION:As you may have heard\, a new report proposes allowing a huge sprawling suburb to be built on the promised but not-yet-delivered Blue Mountain Birch Cove park. \nWe need your help to keep this ecologically significant wilderness area safe! Please come to a public meeting this Wednesday\, and\, if you haven’t already\, please write a brief letter to Halifax council at clerks@halifax.ca before July 4 to state your support for the Park as promised in the 2006 Regional Plan and your opposition to any development inside the Birch Cove Lakes area. \nBackground information: https://www.ecologyaction.ca/news/development-threatens-blue-mountain-birch-cove-lakes \nLocation (Google Maps): http://bit.ly/292fgsJ \nPlease share and invite your friends!
URL:https://nsadvocate.org/event/public-meeting-to-save-blue-mountain-birch-cove-lakes/
LOCATION:Ondaatje Hall\, McCean Faculty of Arts and Social Sciences Building\, 6135 University Ave\, Halifax
END:VEVENT
BEGIN:VEVENT
DTSTART;TZID=America/Glace_Bay:20160629T173000
DTEND;TZID=America/Glace_Bay:20160629T190000
DTSTAMP:20260425T182728
CREATED:20160620T175335Z
LAST-MODIFIED:20160620T175335Z
UID:2157-1467221400-1467226800@nsadvocate.org
SUMMARY:Yarmouth: Risks of Energy East Information Session and Discussion
DESCRIPTION:Energy East Information Tour:\nThe Ecology Action Centre (EAC) is hosting a series of information sessions in coastal Nova Scotian communities along the Bay of Fundy to discuss risks of the proposed Energy East pipeline to the Bay of Fundy. \nThe EAC’s information sessions\, (dates and locations listed below) are a chance to discuss details and risks of Energy East\, and hear feedback and concerns from coastal communities in Nova Scotia about the project. \nTransCanada’s Energy East pipeline and associated export terminal in Saint John\, New Brunswick pose risks to the entire Bay of Fundy due to associated marine terminal and increased tanker traffic in the Bay of Fundy\, through the Gulf of Maine. Tanker traffic would increase by nearly 330 million barrels\, or 290 tankers per year. This would impact coastal communities\, fisheries\, and much of Nova Scotia’s mainland coastline\, especially the Bay of Fundy. \nVisit www.savefundy.ca for more information on the risks of the Energy East pipeline\, and details regarding the upcoming tour. \nAll are welcome. No RSVP is needed. Send questions\, concerns or ideas regarding these events to Stephen Thomas at the Ecology Action Centre:\nstephen@ecologyaction.ca or 1-902-429-2202 \nYARMOUTH EVENT: \nWHEN:\nWednesday\, June 29th at 5:30pm \nWHERE:\nIzaak Walton Killam Memorial Library\n405 Main Street\, Yarmouth NS
URL:https://nsadvocate.org/event/yarmouth-risks-of-energy-east-information-session-and-discussion/
LOCATION:Izaak Walton Killam Memorial Library\, 405 Main Street\, Yarmouth
END:VEVENT
BEGIN:VEVENT
DTSTART;TZID=America/Glace_Bay:20160628T190000
DTEND;TZID=America/Glace_Bay:20160628T210000
DTSTAMP:20260425T182728
CREATED:20160624T135755Z
LAST-MODIFIED:20160624T135755Z
UID:2179-1467140400-1467147600@nsadvocate.org
SUMMARY:Blue Mountain Birch Coves Lake Public Meeting
DESCRIPTION:
URL:https://nsadvocate.org/event/blue-mountain-birch-coves-lake-public-meeting/
LOCATION:Bella Rose Arts Centre\, 283 Thoma Raddall Drive\, Halifax
END:VEVENT
BEGIN:VEVENT
DTSTART;TZID=America/Glace_Bay:20160624T113000
DTEND;TZID=America/Glace_Bay:20160624T130000
DTSTAMP:20260425T182728
CREATED:20160622T155446Z
LAST-MODIFIED:20160622T155446Z
UID:2173-1466767800-1466773200@nsadvocate.org
SUMMARY:Solidarity Information Leafleting Action for Striking Herald Workers
DESCRIPTION:Members of the Halifax Typographical Union (HTU) have been on strike since Januray 23. The employers at the Chronicle Herald have refused to bargain in good faith. Come and help spread the word to the public to cancel their Chronicle Herald subscriptions\, cancel flyer delivery\, and support the HTU’s strike publication Local Xpress while workers are still on strike.
URL:https://nsadvocate.org/event/solidarity-information-leafleting-action-for-striking-herald-workers/
LOCATION:Unnamed Venue\, Sidewalk in front of Halifax Central Library\, Spring Garden Road\, Halifax
END:VEVENT
BEGIN:VEVENT
DTSTART;TZID=America/Glace_Bay:20160623T180000
DTEND;TZID=America/Glace_Bay:20160623T210000
DTSTAMP:20260425T182728
CREATED:20160619T165650Z
LAST-MODIFIED:20160619T165727Z
UID:2140-1466704800-1466715600@nsadvocate.org
SUMMARY:The Bechdel Test Film Fest
DESCRIPTION:South House\, in partnership with the Art Bar (a rad space that is co-run by the The Khyber and Anna Leonowens Gallery)\, will be showing a series of films over the summer with one simple goal in mind: to see if they pass the Bechdel Film Test. Haven’t heard of this iconic test by Allison Bechdel? \nThe Bechdel Test rules:\n1. Are there are least two women?\n2. Do they talk to each other?\n3. About something other than a man? \nThis iconic feminist fim test is very simple\, yet painfully few films pass it. These screenings will be free\, and followed by discussion about feminist film\, representation of women\, trans folks\, non-binary & gender-nonconformist folx\, and femmes of all genders in both mainstream and independent media\, and pop culture in general! \nWhen: first screening will happen on June 23rd at 6pm\nWhere: the NSCAD Art Bar \n~~list of film titles TBA~~~ \nAccess info:\nThe bar is wheelchair accessible through the two front door entrances. The closest wheelchair-accessible washrooms are in the Granville Mall through the Hollis St entrance.
URL:https://nsadvocate.org/event/the-bechdel-test-film-fest/
LOCATION:NSCAD Art Bar\, Haliffax
END:VEVENT
BEGIN:VEVENT
DTSTART;TZID=America/Glace_Bay:20160623T063000
DTEND;TZID=America/Glace_Bay:20160623T203000
DTSTAMP:20260425T182728
CREATED:20160623T000855Z
LAST-MODIFIED:20160623T001105Z
UID:2175-1466663400-1466713800@nsadvocate.org
SUMMARY:Public Information Meeting – What will Daylighting the Sawmill River look like?
DESCRIPTION:There have been a number of decisions made regarding Daylighting the Sawmill River. This includes a full report on how fish passage will be integrated when the storm sewer from Sullivan’s Pond to the Halifax Harbour is replaced. While sections of the engineered stream will be daylit\, the final design for this project has not yet been decided. One delay has been due to on-going discussions regarding the intersection of Alderney Drive and Portland Street and the possibly of rerouting and reducing traffic lanes. The changes to this intersection could result in additional land becoming available providing the needed space for including naturalised components to parts of the Sawmill River. The purpose of this Public Information Meeting is to allow Dartmouth and Halifax residents to gain a better understanding of these proposed changes and how they could impact the final design for the Sawmill River. \n  \nThe Public Information Meeting will have representatives from the Halifax Regional Municipality\, Halifax Water\, and the Ecology Action Centre speak about the future of this project in light of infrastructure and traffic upgrades to downtown Dartmouth. In addition\, representatives from the Shubenacadie Canal Commission\, the Downtown Dartmouth Business Commission\, Halifax Cycling Coalition\, and Sackville River Association will be present to provide information about projects they are involved with in the area to residents. \n  \nAgenda \n6:30-7:30           The evening will begin with an information session. The public is invited to visit the various information tables from each of the invited organisations. \n7:30 – 8pm       Short 8-10 minute presentations by the city of Halifax\, Halifax Water\, and Ecology Action Centre. \n8 – 8:30pm       Audience members will be invited to participate in a Q&A with the speakers and representatives from the invited organisations. \n 
URL:https://nsadvocate.org/event/public-information-meeting-what-will-daylighting-the-sawmill-river-look-like/
LOCATION:MicMac Amateur Aquatic Club\, 192 Prince Albert Road\, Dartmouth
END:VEVENT
BEGIN:VEVENT
DTSTART;TZID=America/Glace_Bay:20160623T063000
DTEND;TZID=America/Glace_Bay:20160623T200000
DTSTAMP:20260425T182728
CREATED:20160620T180033Z
LAST-MODIFIED:20160620T180112Z
UID:2159-1466663400-1466712000@nsadvocate.org
SUMMARY:An evening with youth activist Franklin Valenzuela
DESCRIPTION:
URL:https://nsadvocate.org/event/an-evening-with-youth-activist-franklin-valenzuela/
LOCATION:People’s Place Library\, Antigonish
END:VEVENT
BEGIN:VEVENT
DTSTART;TZID=America/Glace_Bay:20160621T074500
DTEND;TZID=America/Glace_Bay:20160621T083000
DTSTAMP:20260425T182728
CREATED:20160619T164916Z
LAST-MODIFIED:20160619T164916Z
UID:2137-1466495100-1466497800@nsadvocate.org
SUMMARY:National Aboriginal Day
DESCRIPTION:Please join us on June 21st to celebrate National Aboriginal Day with justice! \nWe will be meeting on the Halifax side of the MacDonald Bridge from 7:45 until 8:30am on Tuesday June 21! We will have banners and placards (bring your own too) and will be handing out pamphlets. \nOur aim is to raise awareness and promote action on the Truth and Reconciliation Commission recommendations\, as well as local struggles such as Alton Gas and Boat Harbour. \nPlease come out! Everyone welcome!
URL:https://nsadvocate.org/event/national-aboriginal-day/
LOCATION:Unnamed Venue\, Halifax
END:VEVENT
BEGIN:VEVENT
DTSTART;TZID=America/Glace_Bay:20160620T190000
DTEND;TZID=America/Glace_Bay:20160620T200000
DTSTAMP:20260425T182728
CREATED:20160619T163743Z
LAST-MODIFIED:20160619T163743Z
UID:2135-1466449200-1466452800@nsadvocate.org
SUMMARY:Fleeing Home: Poetry on Persecution
DESCRIPTION:Join the Halifax Refugee Clinic (HRC) on World Refugee Day for performances of poetry by El Jones and clients of the HRC. El’s poem will be accompanied by a video of illustrated narration. Local illustrators Rachel Derrah and Emma Fitzgerald\, along with Documentary Filmmaker Fateh Ahmed\, will also be on hand to talk about their work with the HRC’s Fleeing Home: Poetry on Persecution project — generously funded by Arts NS! \nThis event is free and all are welcome. Refreshments provided. \nhttps://artsns.ca/
URL:https://nsadvocate.org/event/fleeing-home-poetry-on-persecution/
LOCATION:Halifax Central Library\, Spring Garden Rd\, Halifax
END:VEVENT
END:VCALENDAR